BEGIN:VCALENDAR
PRODID:-//eluceo/ical//2.0/EN
VERSION:2.0
CALSCALE:GREGORIAN
BEGIN:VEVENT
UID:314b1db839f731bd64328ccf950dd49f
DTSTAMP:20260421T112951Z
SUMMARY:WRJ-TI Sisterhood-sponsored Congregational Musical Seder
DESCRIPTION:Jewish Community Partners\nMemphis Jewish Community Calendar\nh
 ttps://jcpmemphis.org/community-calendar/wrj-ti-sisterhood-sponsored-congr
 egational-musical-seder-1498783309\n\nWRJ-TI Sisterhood-sponsored Congrega
 tional Musical Seder
DTSTART;TZID=America/Chicago:20180331T180000
DTEND;TZID=America/Chicago:20180331T200000
END:VEVENT
END:VCALENDAR
