BEGIN:VCALENDAR
PRODID:-//eluceo/ical//2.0/EN
VERSION:2.0
CALSCALE:GREGORIAN
BEGIN:VEVENT
UID:505b65f4741ea44adc261b2905f14850
DTSTAMP:20260422T032924Z
SUMMARY:YAD & ConnecTI Leadership Workshop
DESCRIPTION:Jewish Community Partners\nMemphis Jewish Community Calendar\nh
 ttps://jcpmemphis.org/community-calendar/yad-connecti-leadership-program\n
 \nJoin ConnecTI and YAD for a day of learning and leadership. With the hel
 p of New Memphis Institute\, attendees will discover their personal leader
 ship strengths\, learn how to succeed in a dynamic group setting\, and hea
 r inspirational guests speakers reflect on their journeys to become a succ
 essful Jewish leader in Memphis. This workshop is designed to create a pow
 erful forum for networking\, sharing learning\, and community impact
DTSTART;TZID=America/Chicago:20160710T100000
DTEND;TZID=America/Chicago:20160710T140000
END:VEVENT
END:VCALENDAR
