BEGIN:VCALENDAR
PRODID:-//eluceo/ical//2.0/EN
VERSION:2.0
CALSCALE:GREGORIAN
BEGIN:VEVENT
UID:45a13fbd6043facb7bcadd0e7eb0a17c
DTSTAMP:20260419T122427Z
SUMMARY:YAD Trivia Night
DESCRIPTION:Jewish Community Partners\nMemphis Jewish Community Calendar\nh
 ttps://jcpmemphis.org/community-calendar/yad-event-jan\n\nPut your celebri
 ty\, history\, sports and other random knowledge to the test at our YAD Tr
 ivia Night on Saturday\, January 21st at the Memphis Jewish Home and Rehab
 . \n\nThe cost to attend is $10 and includes trivia\, dinner and drinks. 
 Challenge Entertainment will the lead the trivia game.\n\nBring your own t
 eam or join a team! Please limit teams to 10 people. RSVP to www.jcpmemphi
 s.org/trivia by January 20th.\n\nThank you to event co-chairs Lisa Barden
  and Aviva Freiden for helping organize t...
DTSTART;TZID=America/Chicago:20170121T193000
DTEND;TZID=America/Chicago:20170121T223000
END:VEVENT
END:VCALENDAR
