BEGIN:VCALENDAR
PRODID:-//eluceo/ical//2.0/EN
VERSION:2.0
CALSCALE:GREGORIAN
BEGIN:VEVENT
UID:e57570168a21016f7c7bc6aba30ea439
DTSTAMP:20260423T101746Z
SUMMARY:YAD Social Event
DESCRIPTION:Jewish Community Partners\nMemphis Jewish Community Calendar\nh
 ttps://jcpmemphis.org/community-calendar/yad-social-event\n\nYAD Social Ev
 ent
DTSTART;TZID=America/Chicago:20140405T203000
DTEND;TZID=America/Chicago:20140405T233000
END:VEVENT
END:VCALENDAR
