BEGIN:VCALENDAR
PRODID:-//eluceo/ical//2.0/EN
VERSION:2.0
CALSCALE:GREGORIAN
BEGIN:VEVENT
UID:360772f175a1ddc63ebe2292ff681dc8
DTSTAMP:20260424T175454Z
SUMMARY:YESOD Leadership Program
DESCRIPTION:Jewish Community Partners\nMemphis Jewish Community Calendar\nh
 ttps://jcpmemphis.org/community-calendar/yesod-leadership-program-apr\n\nY
 ESOD Leadership Program with Rabbi Feivel Strauss and Rachel Shankman
DTSTART;TZID=America/Chicago:20170404T180000
DTEND;TZID=America/Chicago:20170404T200000
END:VEVENT
END:VCALENDAR
