BEGIN:VCALENDAR
PRODID:-//eluceo/ical//2.0/EN
VERSION:2.0
CALSCALE:GREGORIAN
BEGIN:VEVENT
UID:8a81c4688fa4710ff3cb501bb42968be
DTSTAMP:20260421T203027Z
SUMMARY:Yiddishe Cup Mini-Golf Tourament-Fundraiser
DESCRIPTION:Jewish Community Partners\nMemphis Jewish Community Calendar\nh
 ttps://jcpmemphis.org/community-calendar/yiddishe-cup-mini-golf-tourament-
 fundraiser-1461788774\n\nMorris S. Fogelman Jewish Student Center at Hille
 l of Memphis hosts this annual family friendly event. Funds raised benefit
  the area Jewish college students and helps provide the programs\, project
 s\, activities and events. The event is held at Golf & Games.
DTSTART;TZID=America/Chicago:20170423T140000
DTEND;TZID=America/Chicago:20170423T160000
END:VEVENT
END:VCALENDAR
