BEGIN:VCALENDAR
PRODID:-//eluceo/ical//2.0/EN
VERSION:2.0
CALSCALE:GREGORIAN
BEGIN:VEVENT
UID:4902f4442910bcb77f9f4b34f09758b1
DTSTAMP:20260420T012011Z
SUMMARY:YIOM Lunch & Learn
DESCRIPTION:Jewish Community Partners\nMemphis Jewish Community Calendar\nh
 ttps://jcpmemphis.org/community-calendar/yiom-lunch--learn-1478114900\n\nA
 n hour of learning with Rabbi Akiva Males at the Jewish Home boardroom.
DTSTART;TZID=America/Chicago:20161122T120000
DTEND;TZID=America/Chicago:20161122T130000
END:VEVENT
END:VCALENDAR
