BEGIN:VCALENDAR
PRODID:-//eluceo/ical//2.0/EN
VERSION:2.0
CALSCALE:GREGORIAN
BEGIN:VEVENT
UID:0f649caae1ff9fcaa001cc5a964d2968
DTSTAMP:20260420T131103Z
SUMMARY:Yom HaShoah Community Observance
DESCRIPTION:Jewish Community Partners\nMemphis Jewish Community Calendar\nh
 ttps://jcpmemphis.org/community-calendar/yom-hashoah-community-observance2
 017\n\nJoin us for the 55th Annual Yom HaShoah Commemoration.The event wil
 l honor Holocaust survivors living among us\, remember those we have lost 
 and celebrate their legacy. Doors open at 6:00 P.M.\n\nThe event will hono
 r Holocaust survivors living among us\, remember those we have lost\, and 
 celebrate their legacy. The program will include the traditional candle li
 ghting ceremony in memory of the six million Jews who perished in the Shoa
 h\, as well as special prayers\, readings and songs. The presenta...
DTSTART;TZID=America/Chicago:20170424T183000
DTEND;TZID=America/Chicago:20170424T203000
END:VEVENT
END:VCALENDAR
