BEGIN:VCALENDAR
PRODID:-//eluceo/ical//2.0/EN
VERSION:2.0
CALSCALE:GREGORIAN
BEGIN:VEVENT
UID:6ba55fb6f75020dfa79ab0843a742b58
DTSTAMP:20260424T221811Z
SUMMARY:Yom Hazikaron Celebration
DESCRIPTION:Jewish Community Partners\nMemphis Jewish Community Calendar\nh
 ttps://jcpmemphis.org/community-calendar/yom-hazikaron-celebration-1429043
 545\n\nDinner and Celebration Dancing
DTSTART;TZID=America/Chicago:20150422T190000
DTEND;TZID=America/Chicago:20150422T220000
END:VEVENT
END:VCALENDAR
