BEGIN:VCALENDAR
PRODID:-//eluceo/ical//2.0/EN
VERSION:2.0
CALSCALE:GREGORIAN
BEGIN:VEVENT
UID:6d7b5dc46838542346f9656406e0501c
DTSTAMP:20260423T062433Z
SUMMARY:Young Israel of Memphis Annual Meeting
DESCRIPTION:Jewish Community Partners\nMemphis Jewish Community Calendar\nh
 ttps://jcpmemphis.org/community-calendar/young-israel-of-memphis-annual-me
 eting\n\nWho:              Young Israel of Memphis\nWhat:  
            Annual Meeting\nWhere:            Dixon Ga
 llery & Gardens – Hughes Pavilion\nWhen:            Sunday Ju
 ne 4\, 2017 at 6:30 p.m. \nDetails:           Annual Report to 
 Congregation\, Election of Board and Officers\, Ish Chesed Award.  Delici
 ous Dinner served\n 
DTSTART;TZID=America/Chicago:20170604T183000
DTEND;TZID=America/Chicago:20170604T203000
END:VEVENT
END:VCALENDAR
