BEGIN:VCALENDAR
PRODID:-//eluceo/ical//2.0/EN
VERSION:2.0
CALSCALE:GREGORIAN
BEGIN:VEVENT
UID:9ed3f1969604888962278713ef133740
DTSTAMP:20260422T234257Z
SUMMARY:Young Israel Pies for Our Guys
DESCRIPTION:Jewish Community Partners\nMemphis Jewish Community Calendar\nh
 ttps://jcpmemphis.org/community-calendar/young-israel-pies-for-our-guys-15
 09461780\n\nKids of all ages will bake pumpkin pies for our local firefigh
 ters which we will deliver on Thanksgiving to express our gratitude to the
 m for all they do!
DTSTART;TZID=America/Chicago:20171112T100000
DTEND;TZID=America/Chicago:20171112T110000
END:VEVENT
END:VCALENDAR
