BEGIN:VCALENDAR
PRODID:-//eluceo/ical//2.0/EN
VERSION:2.0
CALSCALE:GREGORIAN
BEGIN:VEVENT
UID:2f828df8601178e84209c86b92ff584f
DTSTAMP:20260420T181724Z
SUMMARY:Young Israel Succah Decorating Event
DESCRIPTION:Jewish Community Partners\nMemphis Jewish Community Calendar\nh
 ttps://jcpmemphis.org/community-calendar/young-israel-succah-decorating-ev
 ent-1435632665\n\nSuccah decorating for all ages
DTSTART;TZID=America/Chicago:20150927T103000
DTEND;TZID=America/Chicago:20150927T120000
END:VEVENT
END:VCALENDAR
