BEGIN:VCALENDAR
PRODID:-//eluceo/ical//2.0/EN
VERSION:2.0
CALSCALE:GREGORIAN
BEGIN:VEVENT
UID:617f7d39b8a65cc15858b03201614938
DTSTAMP:20260420T145455Z
SUMMARY:Raoul Wallenberg: Letters From Young Men\, solo performance by Davi
 d F. Chap
DESCRIPTION:Jewish Community Partners\nMemJFed\nhttps://jcpmemphis.org/memj
 fed/raoul-wallenberg-letters-from-young-men-solo-performance-by-david-f-ch
 apman\n\nRaoul Wallenberg: Letters From Young Men\, solo per
DTSTART;TZID=America/Chicago:20130509T190000
DTEND;TZID=America/Chicago:20130509T210000
END:VEVENT
END:VCALENDAR
