BEGIN:VCALENDAR
PRODID:-//eluceo/ical//2.0/EN
VERSION:2.0
CALSCALE:GREGORIAN
BEGIN:VEVENT
UID:d4a3ab682c2d704bfe26994031672420
DTSTAMP:20260420T072034Z
SUMMARY:ASBEE Annual Meeting
DESCRIPTION:Jewish Community Partners\nPublic Events\nhttps://jcpmemphis.or
 g/public-events/asbee-annual-meeting\n\nASBEE Annual Meeting
DTSTART;TZID=America/Chicago:20130512T100000
DTEND;TZID=America/Chicago:20130512T120000
END:VEVENT
END:VCALENDAR
