BEGIN:VCALENDAR
PRODID:-//eluceo/ical//2.0/EN
VERSION:2.0
CALSCALE:GREGORIAN
BEGIN:VEVENT
UID:8e8433071bec6c5d42fca7f691ef0175
DTSTAMP:20260422T220032Z
SUMMARY:ASBEE's 25th Annual BBQ Kick-off Dinner
DESCRIPTION:Jewish Community Partners\nPublic Events\nhttps://jcpmemphis.or
 g/public-events/asbees-25th-annual-bbq-kick-off-dinner\n\nBBQ Dinner
DTSTART;TZID=America/Chicago:20130818T180000
DTEND;TZID=America/Chicago:20130818T210000
END:VEVENT
END:VCALENDAR
