BEGIN:VCALENDAR
PRODID:-//eluceo/ical//2.0/EN
VERSION:2.0
CALSCALE:GREGORIAN
BEGIN:VEVENT
UID:e22ec22db78401432cc7bd3a8a712729
DTSTAMP:20260422T171804Z
SUMMARY:Board Meeting
DESCRIPTION:Jewish Community Partners\nPublic Events\nhttps://jcpmemphis.or
 g/public-events/board-meeting\n\nMJF Board Meeting
DTSTART;TZID=America/Chicago:20130130T193000
DTEND;TZID=America/Chicago:20130130T213000
END:VEVENT
END:VCALENDAR
