BEGIN:VCALENDAR
PRODID:-//eluceo/ical//2.0/EN
VERSION:2.0
CALSCALE:GREGORIAN
BEGIN:VEVENT
UID:642bee3088603882586196a8bda10437
DTSTAMP:20260421T142334Z
SUMMARY:MHA Banquet
DESCRIPTION:Jewish Community Partners\nPublic Events\nhttps://jcpmemphis.or
 g/public-events/mha-banquet\n\nMHA Banquet
DTSTART;TZID=America/Chicago:20130602T170000
DTEND;TZID=America/Chicago:20130602T210000
END:VEVENT
END:VCALENDAR
