BEGIN:VCALENDAR
PRODID:-//eluceo/ical//2.0/EN
VERSION:2.0
CALSCALE:GREGORIAN
BEGIN:VEVENT
UID:db43feb7f04166be7294071b8471f90d
DTSTAMP:20260420T003842Z
SUMMARY:MHA/FYOS Evening of Divrei Torah/Matmidim Celebration
DESCRIPTION:Jewish Community Partners\nPublic Events\nhttps://jcpmemphis.or
 g/public-events/mha-fyos-evening-of-divrei-torah-matmidim-celebration\n\nM
 HA Matmidim Celebration
DTSTART;TZID=America/Chicago:20140403T200000
DTEND;TZID=America/Chicago:20140403T210000
END:VEVENT
END:VCALENDAR
