BEGIN:VCALENDAR
PRODID:-//eluceo/ical//2.0/EN
VERSION:2.0
CALSCALE:GREGORIAN
BEGIN:VEVENT
UID:10a86ecfafe88036c0274b431a9320d6
DTSTAMP:20260423T181225Z
SUMMARY:Temple Israel EcoExpo
DESCRIPTION:Jewish Community Partners\nPublic Events\nhttps://jcpmemphis.or
 g/public-events/temple-israel-ecoexpo\n\nTemple Israel EcoExpo
DTSTART;TZID=America/Chicago:20130127T100000
DTEND;TZID=America/Chicago:20130127T150000
END:VEVENT
END:VCALENDAR
