BEGIN:VCALENDAR
PRODID:-//eluceo/ical//2.0/EN
VERSION:2.0
CALSCALE:GREGORIAN
BEGIN:VEVENT
UID:4ae2fd2546e4ad5f84b06b6d812738b6
DTSTAMP:20260422T190001Z
SUMMARY:Temple Israel Mitzvah Day
DESCRIPTION:Jewish Community Partners\nPublic Events\nhttps://jcpmemphis.or
 g/public-events/temple-israel-mitzvah-day\n\nTemple Israel Mitzvah Day
DTSTART;TZID=America/Chicago:20131103T090000
DTEND;TZID=America/Chicago:20131103T180000
END:VEVENT
END:VCALENDAR
