BEGIN:VCALENDAR
PRODID:-//eluceo/ical//2.0/EN
VERSION:2.0
CALSCALE:GREGORIAN
BEGIN:VEVENT
UID:a30580347209333ec6faf96ac03719b2
DTSTAMP:20260420T040926Z
SUMMARY:YAD Bowling Party
DESCRIPTION:Jewish Community Partners\nPublic Events\nhttps://jcpmemphis.or
 g/public-events/yad-bowling-party\n\nYAD Bowling Party
DTSTART;TZID=America/Chicago:20130309T193000
DTEND;TZID=America/Chicago:20130309T213000
END:VEVENT
END:VCALENDAR
